BEGIN:VCALENDAR
PRODID:-//AT Content Types//AT Event//EN
VERSION:1.0
BEGIN:VEVENT
DTSTART:20080125T150000Z
DTEND:20080125T160000Z
DCREATED:20080121T151015Z
UID:ATEvent-e8f6a4b5-b027-4b27-b5c5-21b17b75f6ec
SEQUENCE:0
LAST-MODIFIED:20080121T151020Z
SUMMARY:Becky Lorenz Peterson\, University of Cambridge
DESCRIPTION:Going Inorganic: Solution-Processed Zinc Oxide Thin Film T
 ransistors
LOCATION:1014 HH Dow
PRIORITY:3
TRANSP:0
END:VEVENT
END:VCALENDAR
