BEGIN:VCALENDAR
PRODID:-//AT Content Types//AT Event//EN
VERSION:2.0
METHOD:PUBLISH
BEGIN:VEVENT
DTSTAMP:20260424T101959Z
CREATED:20071203T192915Z
UID:ATEvent-35c8d28d-8f52-4752-b70a-c6c9608ada0d
LAST-MODIFIED:20080111T211027Z
SUMMARY:Benjamin Hsiao\, Stony Brook University
DTSTART:20080307T203000Z
DTEND:20080307T220000Z
DESCRIPTION:New Horizon of Nanofiber Technology for Environmental Appl
 ications
LOCATION:1670 CSE
CATEGORIES:Seminar
URL:http://www.sunysb.edu/chemistry/faculty/bhsiao.htm
CLASS:PUBLIC
END:VEVENT
END:VCALENDAR
