BEGIN:VCALENDAR
PRODID:-//AT Content Types//AT Event//EN
VERSION:1.0
BEGIN:VEVENT
DTSTART:20080128T170000Z
DTEND:20080128T190000Z
DCREATED:20080111T221904Z
UID:ATEvent-a51e6d21-15b1-4517-9394-098a20909e28
SEQUENCE:0
LAST-MODIFIED:20080125T200213Z
SUMMARY:Fabio Albano\, Design and Optimization of Power Supplies for Wireless Integrated MicroSystems
DESCRIPTION:Ann Marie Sastry\, chair
LOCATION:3433 EEBS
PRIORITY:3
TRANSP:0
END:VEVENT
END:VCALENDAR
