BEGIN:VCALENDAR
PRODID:-//AT Content Types//AT Event//EN
VERSION:1.0
BEGIN:VEVENT
DTSTART:20180216T153000Z
DTEND:20180216T163000Z
DCREATED:20180104T141857Z
UID:ATEvent-ed7a704338e446cb9ebfb63f70e28f66
SEQUENCE:0
LAST-MODIFIED:20180110T135545Z
SUMMARY:Spherulitic Growth of Coral Skeletons and Synthetic Aragonite: Nature’s 3D-printing
DESCRIPTION:Pupa Gilbert
LOCATION:1670 Beyster
PRIORITY:3
TRANSP:0
END:VEVENT
END:VCALENDAR
