BEGIN:VCALENDAR
PRODID:-//AT Content Types//AT Event//EN
VERSION:2.0
METHOD:PUBLISH
BEGIN:VEVENT
DTSTAMP:20260424T132804Z
CREATED:20080109T151000Z
UID:ATEvent-3dd86c90-53b9-49fb-84fa-2ae0719acb75
LAST-MODIFIED:20080111T210351Z
SUMMARY:Stephen Harris\, General Motors
DTSTART:20080201T203000Z
DTEND:20080201T220000Z
DESCRIPTION:Micro-Raman Spectroscopy to Determine the Full State of St
 ress of Silicon. Application to Eutectic Si Particles in Cast Al
LOCATION:1670 CSE
CATEGORIES:Seminar
CLASS:PUBLIC
END:VEVENT
END:VCALENDAR
